BEGIN:VCALENDAR
VERSION:2.0
PRODID:-//ChamberMaster//Event Calendar 2.0//EN
METHOD:PUBLISH
X-PUBLISHED-TTL:P3D
REFRESH-INTERVAL:P3D
CALSCALE:GREGORIAN
BEGIN:VEVENT
DTSTART:20211115T233000Z
DTEND:20211116T003000Z
X-MICROSOFT-CDO-ALLDAYEVENT:FALSE
SUMMARY:Executive Board Meeting
DESCRIPTION:Executive Board Meeting
X-ALT-DESC;FMTTYPE=text/html:<div style="text-align: center">\n	<span style="font-size: large"><strong>Executive Board Meeting</strong></span></div>\n
LOCATION:Chamber Boardroom
UID:e.265.7579
SEQUENCE:3
DTSTAMP:20260426T041926Z
URL:https://business.duncanvillechamber.org/events/details/executive-board-meeting-11-15-2021-7579
END:VEVENT

END:VCALENDAR
